BEGIN:VCALENDAR
VERSION:2.0
PRODID:-//http://www.wcb.org.nz//NONSGML kigkonsult.se iCalcreator 2.18//
METHOD:PUBLISH
X-WR-CALNAME:JCal Pro Calendar
X-WR-CALDESC:Your online events calendar
X-WR-TIMEZONE:Pacific/Auckland
BEGIN:VEVENT
UID:20150903T070000UTC-99b0d6@http://wcb.org.nz/
DTSTAMP:20191221T125311Z
DESCRIPTION:Exploring the journey from Early Childhood Education to School 
 - a valuable seminar to ensure your child's transition to school is a posi
 tive one. To register\, call 345 3008 or text 027 626 1404.
DTSTART;TZID=Pacific/Auckland:20150903T190000
DTEND;TZID=Pacific/Auckland:20150903T210000
SUMMARY:Getting Ready for School - Free Seminar
URL:http://www.wcb.org.nz/events/diary/22-skip/29317-getting-ready-for-scho
 ol-free-seminar
END:VEVENT
END:VCALENDAR
