BEGIN:VCALENDAR
VERSION:2.0
PRODID:-//http://www.wcb.org.nz//NONSGML kigkonsult.se iCalcreator 2.18//
METHOD:PUBLISH
X-WR-CALNAME:JCal Pro Calendar
X-WR-CALDESC:Your online events calendar
X-WR-TIMEZONE:Pacific/Auckland
BEGIN:VEVENT
UID:20121006T080000UTC-1dcdbf@http://www.wcb.net.nz/
DTSTAMP:20181221T211935Z
DESCRIPTION:Catering dome by infusion<br />Cost $18.00 (This is for a full 
 breakfast continental & cooked).<br />Come and enjoy a great breakfast as 
 well as food for your soul!
DTSTART:20121006T080000Z
DTEND:20121006T100000Z
SUMMARY:City Wide Men's Breakfast
URL:http://www.wcb.org.nz/events/diary/18-mens/73-city-wide-men-s-breakfast
END:VEVENT
END:VCALENDAR
