BEGIN:VCALENDAR
VERSION:2.0
PRODID:-//http://www.wcb.org.nz//NONSGML kigkonsult.se iCalcreator 2.18//
METHOD:PUBLISH
X-WR-CALNAME:JCal Pro Calendar
X-WR-CALDESC:Your online events calendar
X-WR-TIMEZONE:Pacific/Auckland
BEGIN:VEVENT
UID:20120914T170000UTC-b93cfc@http://www.wcb.net.nz/
DTSTAMP:20181221T211847Z
DESCRIPTION:Tickets are booked\, accomodation is booked.<br />To sort out w
 ho is going in who's car\,<br />See Robert or Grant for more details or lo
 ok at the following link.<br /><a href='http://www.promisekeepers.org.nz/w
 tn12.html'><a href='http://www.promisekeepers.org.nz/wtn12.html'>http://ww
 w.promisekeepers.org.nz/wtn12.html</a></a>
DTSTART:20120914T170000Z
DTEND:20120915T180000Z
SUMMARY:Promise Keepers
URL:http://www.wcb.org.nz/events/diary/18-mens/43-promise-keepers
END:VEVENT
END:VCALENDAR
