BEGIN:VCALENDAR
VERSION:2.0
PRODID:-//http://www.wcb.org.nz//NONSGML kigkonsult.se iCalcreator 2.18//
METHOD:PUBLISH
X-WR-CALNAME:JCal Pro Calendar
X-WR-CALDESC:Your online events calendar
X-WR-TIMEZONE:Pacific/Auckland
BEGIN:VEVENT
UID:20140328T183000UTC-97630a@http://wcb.org.nz/
DTSTAMP:20180125T155851Z
DESCRIPTION:Joel Garman will be speaking and showing a couple of short movi
 es.<br />Cost $10 per person.<br />RSVP to <a href='mailto:allblokes@wcb.o
 rg.nz?subject=All%20blokes%20Breakfast'>Grant or Robert</a>
DTSTART;TZID=Pacific/Auckland:20140329T073000
DTEND;TZID=Pacific/Auckland:20140329T093000
SUMMARY:All Blokes Breakfast
URL:http://www.wcb.org.nz/events/diary/18-mens/399-all-blokes-breakfast
END:VEVENT
END:VCALENDAR
