BEGIN:VCALENDAR
VERSION:2.0
PRODID:-//http://www.wcb.org.nz//NONSGML kigkonsult.se iCalcreator 2.18//
METHOD:PUBLISH
X-WR-CALNAME:JCal Pro Calendar
X-WR-CALDESC:Your online events calendar
X-WR-TIMEZONE:Pacific/Auckland
BEGIN:VEVENT
UID:20141005T173000UTC-f97233@http://wcb.org.nz/
DTSTAMP:20180125T160133Z
DESCRIPTION:8-week weight-loss challenge for men.&nbsp\;$25 entry fee with 
 weekly weigh-in\, support\, ideas and encouragement. Mondays starting 6 Oc
 tober\, 6:30pm.
DTSTART;TZID=Pacific/Auckland:20141006T183000
DTEND;TZID=Pacific/Auckland:20141006T191500
RRULE:FREQ=WEEKLY;COUNT=8;INTERVAL=1
SUMMARY:Biggest Loser
URL:http://www.wcb.org.nz/events/diary/18-mens/28623-biggest-loser
END:VEVENT
END:VCALENDAR
