BEGIN:VCALENDAR
VERSION:2.0
PRODID:-//http://www.wcb.org.nz//NONSGML kigkonsult.se iCalcreator 2.18//
METHOD:PUBLISH
X-WR-CALNAME:JCal Pro Calendar
X-WR-CALDESC:Your online events calendar
X-WR-TIMEZONE:Pacific/Auckland
BEGIN:VEVENT
UID:20141017T183000UTC-290319@http://wcb.org.nz/
DTSTAMP:20180125T160100Z
DESCRIPTION:Cost $10. Speaker: Dan Gilmore - a straight shooting\, hard hit
 ting\, take no prisoners\, honest account of life\, business\, and Christi
 anity.
DTSTART;TZID=Pacific/Auckland:20141018T073000
DTEND;TZID=Pacific/Auckland:20141018T093000
SUMMARY:All Blokes Big Breakfast
URL:http://www.wcb.org.nz/events/diary/18-mens/28622-all-blokes-big-breakfa
 st
END:VEVENT
END:VCALENDAR
