BEGIN:VCALENDAR
VERSION:2.0
PRODID:-//http://www.wcb.org.nz//NONSGML kigkonsult.se iCalcreator 2.18//
METHOD:PUBLISH
X-WR-CALNAME:JCal Pro Calendar
X-WR-CALDESC:Your online events calendar
X-WR-TIMEZONE:Pacific/Auckland
BEGIN:VEVENT
UID:20140430T073000UTC-231c2e@http://wcb.org.nz/
DTSTAMP:20180125T155943Z
DESCRIPTION:Wednesday 30 April\, 7.30pm at church.<br /> Gary Brockett (our
  Tranzsend speaker from 6 April) sharing more about how he is bringing tec
 hnology to the mission of God. <br />Tea/coffee &amp\; supper provided.
DTSTART;TZID=Pacific/Auckland:20140430T193000
DTEND;TZID=Pacific/Auckland:20140430T213000
SUMMARY:All Blokes Geek Night
URL:http://www.wcb.org.nz/events/diary/18-mens/28520-all-blokes-geek-night
END:VEVENT
END:VCALENDAR
