BEGIN:VCALENDAR
VERSION:2.0
PRODID:-//http://www.wcb.org.nz//NONSGML kigkonsult.se iCalcreator 2.18//
METHOD:PUBLISH
X-WR-CALNAME:JCal Pro Calendar
X-WR-CALDESC:Your online events calendar
X-WR-TIMEZONE:Pacific/Auckland
BEGIN:VEVENT
UID:20130407T070000UTC-94e5d3@http://wcb.org.nz/
DTSTAMP:20181221T212129Z
DESCRIPTION:<p>Music by Tim and Co.</p>\n<p> Testimony by Nigel.</p>\n<p>1s
 t coffee free.<br />RSVP Robert or Grant</p>
DTSTART;TZID=Pacific/Auckland:20130407T190000
DTEND;TZID=Pacific/Auckland:20130407T210000
SUMMARY:Men's Coffee at Jolt
URL:http://www.wcb.org.nz/events/diary/18-mens/197-men-s-coffee-at-jolt
END:VEVENT
END:VCALENDAR
