BEGIN:VCALENDAR
VERSION:2.0
PRODID:-//http://www.wcb.org.nz//NONSGML kigkonsult.se iCalcreator 2.18//
METHOD:PUBLISH
X-WR-CALNAME:JCal Pro Calendar
X-WR-CALDESC:Your online events calendar
X-WR-TIMEZONE:Pacific/Auckland
BEGIN:VEVENT
UID:20121215T193000UTC-4d16d0@http://wcb.org.nz/
DTSTAMP:20181221T212025Z
DESCRIPTION:Nigel Irwin will be speaking.<br />Please let us know if you ar
 e comming because we need numbers for catering.<br /><a href='contact-us'>
 Click here</a> if need to book or for more information.<br /><br data-mce-
 bogus='1' />
DTSTART:20121215T193000Z
DTEND:20121215T213000Z
SUMMARY:Men's Christmas Breakfast
URL:http://www.wcb.org.nz/events/diary/18-mens/133-men-s-christmas-breakfas
 t
END:VEVENT
END:VCALENDAR
